BEGIN:VCALENDAR
VERSION:2.0
PRODID:-//AZ Origin Science - ECPv6.15.3//NONSGML v1.0//EN
CALSCALE:GREGORIAN
METHOD:PUBLISH
X-WR-CALNAME:AZ Origin Science
X-ORIGINAL-URL:https://www.azosa.com
X-WR-CALDESC:Events for AZ Origin Science
REFRESH-INTERVAL;VALUE=DURATION:PT1H
X-Robots-Tag:noindex
X-PUBLISHED-TTL:PT1H
BEGIN:VTIMEZONE
TZID:America/Phoenix
BEGIN:STANDARD
TZOFFSETFROM:-0700
TZOFFSETTO:-0700
TZNAME:MST
DTSTART:20260101T000000
END:STANDARD
END:VTIMEZONE
BEGIN:VEVENT
DTSTART;TZID=America/Phoenix:20260502T140000
DTEND;TZID=America/Phoenix:20260502T150000
DTSTAMP:20260421T025604
CREATED:20260417T211151Z
LAST-MODIFIED:20260417T211151Z
UID:5538-1777730400-1777734000@www.azosa.com
SUMMARY:Yeah\, But Who Wrote the Software Part II
DESCRIPTION:
URL:https://www.azosa.com/event/yeah-but-who-wrote-the-software-part-ii-3/
LOCATION:Camp Verde Seventh-day Adventist church\, 1406 N. Boothill Drive\, Camp Verde\, Arizona\, 86322\, United States
CATEGORIES:Yavapai
END:VEVENT
BEGIN:VEVENT
DTSTART;TZID=America/Phoenix:20260512T190000
DTEND;TZID=America/Phoenix:20260512T203000
DTSTAMP:20260421T025604
CREATED:20260415T160251Z
LAST-MODIFIED:20260415T160251Z
UID:5534-1778612400-1778617800@www.azosa.com
SUMMARY:Healing
DESCRIPTION:
URL:https://www.azosa.com/event/healing-2/
LOCATION:His Church\, Calvary Chapel\, 3320 S. Price Rd\, Tempe\, AZ\, United States
CATEGORIES:Maricopa County
END:VEVENT
BEGIN:VEVENT
DTSTART;TZID=America/Phoenix:20260516T183000
DTEND;TZID=America/Phoenix:20260516T200000
DTSTAMP:20260421T025604
CREATED:20260417T211353Z
LAST-MODIFIED:20260417T211353Z
UID:5540-1778956200-1778961600@www.azosa.com
SUMMARY:Apemen to Humans - Is A Monkey Your Uncle?
DESCRIPTION:
URL:https://www.azosa.com/event/apemen-to-humans-is-a-monkey-your-uncle-2/
LOCATION:Calvary Baptist Church 241 E. McNeil St in Show Low
CATEGORIES:Navajo
END:VEVENT
BEGIN:VEVENT
DTSTART;TZID=America/Phoenix:20260521T190000
DTEND;TZID=America/Phoenix:20260521T203000
DTSTAMP:20260421T025604
CREATED:20260417T211607Z
LAST-MODIFIED:20260417T211607Z
UID:5542-1779390000-1779395400@www.azosa.com
SUMMARY:Apemen to Humans - Is A Monkey Your Uncle?
DESCRIPTION:
URL:https://www.azosa.com/event/apemen-to-humans-is-a-monkey-your-uncle-3/
LOCATION:Payson First Baptist Church 303 W. Main St
CATEGORIES:Gila
END:VEVENT
BEGIN:VEVENT
DTSTART;TZID=America/Phoenix:20260524T140000
DTEND;TZID=America/Phoenix:20260524T153000
DTSTAMP:20260421T025604
CREATED:20260417T212119Z
LAST-MODIFIED:20260417T212119Z
UID:5544-1779631200-1779636600@www.azosa.com
SUMMARY:The Tower of Babel and Ancient Man
DESCRIPTION:
URL:https://www.azosa.com/event/the-tower-of-babel-and-ancient-man-10/
LOCATION:Community Christian Church of Marana\, 13610 N Sandario Rd Marana\, AZ\, United States
CATEGORIES:Pima County (Tucson)
END:VEVENT
BEGIN:VEVENT
DTSTART;TZID=America/Phoenix:20260530T140000
DTEND;TZID=America/Phoenix:20260530T153000
DTSTAMP:20260421T025604
CREATED:20260417T212252Z
LAST-MODIFIED:20260417T212252Z
UID:5547-1780149600-1780155000@www.azosa.com
SUMMARY:Yeah\, But Who Wrote the Software Part II
DESCRIPTION:
URL:https://www.azosa.com/event/yeah-but-who-wrote-the-software-part-ii-4/
LOCATION:Casa Grande Seventh-day Adventist Church – 501 N. Marshall St – Casa Grande\, AZ
CATEGORIES:Pinal
END:VEVENT
BEGIN:VEVENT
DTSTART;TZID=America/Phoenix:20260602T183000
DTEND;TZID=America/Phoenix:20260602T200000
DTSTAMP:20260421T025604
CREATED:20260110T003624Z
LAST-MODIFIED:20260110T003624Z
UID:5503-1780425000-1780430400@www.azosa.com
SUMMARY:Meet Your Ancestors: Adam and Eve!
DESCRIPTION:
URL:https://www.azosa.com/event/meet-your-ancestors-adam-and-eve/
LOCATION:Calvary Baptist Church 241 E. McNeil St in Show Low
CATEGORIES:Navajo
END:VEVENT
BEGIN:VEVENT
DTSTART;TZID=America/Phoenix:20260603T190000
DTEND;TZID=America/Phoenix:20260603T203000
DTSTAMP:20260421T025604
CREATED:20260110T003746Z
LAST-MODIFIED:20260110T003746Z
UID:5505-1780513200-1780518600@www.azosa.com
SUMMARY:Meet Your Ancestors: Adam and Eve!
DESCRIPTION:
URL:https://www.azosa.com/event/meet-your-ancestors-adam-and-eve-2/
LOCATION:Payson First Baptist Church 303 W. Main St
CATEGORIES:Gila
END:VEVENT
END:VCALENDAR