BEGIN:VCALENDAR
VERSION:2.0
PRODID:-//AZ Origin Science - ECPv6.15.3//NONSGML v1.0//EN
CALSCALE:GREGORIAN
METHOD:PUBLISH
X-ORIGINAL-URL:https://www.azosa.com
X-WR-CALDESC:Events for AZ Origin Science
REFRESH-INTERVAL;VALUE=DURATION:PT1H
X-Robots-Tag:noindex
X-PUBLISHED-TTL:PT1H
BEGIN:VTIMEZONE
TZID:America/Phoenix
BEGIN:STANDARD
TZOFFSETFROM:-0700
TZOFFSETTO:-0700
TZNAME:MST
DTSTART:20260101T000000
END:STANDARD
END:VTIMEZONE
BEGIN:VEVENT
DTSTART;TZID=America/Phoenix:20260524T140000
DTEND;TZID=America/Phoenix:20260524T153000
DTSTAMP:20260421T044154
CREATED:20260417T212119Z
LAST-MODIFIED:20260417T212119Z
UID:5544-1779631200-1779636600@www.azosa.com
SUMMARY:The Tower of Babel and Ancient Man
DESCRIPTION:
URL:https://www.azosa.com/event/the-tower-of-babel-and-ancient-man-10/
LOCATION:Community Christian Church of Marana\, 13610 N Sandario Rd Marana\, AZ\, United States
CATEGORIES:Pima County (Tucson)
END:VEVENT
END:VCALENDAR