BEGIN:VCALENDAR
VERSION:2.0
PRODID:-//AZ Origin Science - ECPv6.15.3//NONSGML v1.0//EN
CALSCALE:GREGORIAN
METHOD:PUBLISH
X-ORIGINAL-URL:https://www.azosa.com
X-WR-CALDESC:Events for AZ Origin Science
REFRESH-INTERVAL;VALUE=DURATION:PT1H
X-Robots-Tag:noindex
X-PUBLISHED-TTL:PT1H
BEGIN:VTIMEZONE
TZID:America/Phoenix
BEGIN:STANDARD
TZOFFSETFROM:-0700
TZOFFSETTO:-0700
TZNAME:MST
DTSTART:20230101T000000
END:STANDARD
END:VTIMEZONE
BEGIN:VEVENT
DTSTART;TZID=America/Phoenix:20230413T183000
DTEND;TZID=America/Phoenix:20230413T200000
DTSTAMP:20260423T075208
CREATED:20230317T155057Z
LAST-MODIFIED:20230317T155749Z
UID:4626-1681410600-1681416000@www.azosa.com
SUMMARY:Continuous Environmental Tracking
DESCRIPTION:
URL:https://www.azosa.com/event/continuous-environmental-tracking-3/
LOCATION:Havasu Christian Alliance Church\, 510 Acoma Blvd N\, Lake Havasu City\, AZ\, 86403
CATEGORIES:Mohave,Mohave
END:VEVENT
END:VCALENDAR