BEGIN:VCALENDAR
VERSION:2.0
PRODID:-//AZ Origin Science - ECPv6.15.3//NONSGML v1.0//EN
CALSCALE:GREGORIAN
METHOD:PUBLISH
X-WR-CALNAME:AZ Origin Science
X-ORIGINAL-URL:https://www.azosa.com
X-WR-CALDESC:Events for AZ Origin Science
REFRESH-INTERVAL;VALUE=DURATION:PT1H
X-Robots-Tag:noindex
X-PUBLISHED-TTL:PT1H
BEGIN:VTIMEZONE
TZID:America/Phoenix
BEGIN:STANDARD
TZOFFSETFROM:-0700
TZOFFSETTO:-0700
TZNAME:MST
DTSTART:20230101T000000
END:STANDARD
END:VTIMEZONE
BEGIN:VEVENT
DTSTART;TZID=America/Phoenix:20230718T183000
DTEND;TZID=America/Phoenix:20230718T200000
DTSTAMP:20260425T095142
CREATED:20230420T221940Z
LAST-MODIFIED:20230420T221940Z
UID:4665-1689705000-1689710400@www.azosa.com
SUMMARY:The Ice Age and the Woolly Mammoths
DESCRIPTION:
URL:https://www.azosa.com/event/the-ice-age-and-the-woolly-mammoths/
LOCATION:Calvary Baptist Church – Show Low\, 241 E. McNeil St\, Show Low\, AZ\, 85901\, United States
CATEGORIES:Navajo,Navajo
END:VEVENT
END:VCALENDAR