BEGIN:VCALENDAR
VERSION:2.0
PRODID:-//AZ Origin Science - ECPv6.15.3//NONSGML v1.0//EN
CALSCALE:GREGORIAN
METHOD:PUBLISH
X-ORIGINAL-URL:https://www.azosa.com
X-WR-CALDESC:Events for AZ Origin Science
REFRESH-INTERVAL;VALUE=DURATION:PT1H
X-Robots-Tag:noindex
X-PUBLISHED-TTL:PT1H
BEGIN:VTIMEZONE
TZID:America/Phoenix
BEGIN:STANDARD
TZOFFSETFROM:-0700
TZOFFSETTO:-0700
TZNAME:MST
DTSTART:20260101T000000
END:STANDARD
END:VTIMEZONE
BEGIN:VEVENT
DTSTART;TZID=America/Phoenix:20260516T183000
DTEND;TZID=America/Phoenix:20260516T200000
DTSTAMP:20260421T053546
CREATED:20260417T211353Z
LAST-MODIFIED:20260417T211353Z
UID:5540-1778956200-1778961600@www.azosa.com
SUMMARY:Apemen to Humans - Is A Monkey Your Uncle?
DESCRIPTION:
URL:https://www.azosa.com/event/apemen-to-humans-is-a-monkey-your-uncle-2/
LOCATION:Calvary Baptist Church 241 E. McNeil St in Show Low
CATEGORIES:Navajo
END:VEVENT
END:VCALENDAR